BEGIN:VCALENDAR
PRODID:-//eluceo/ical//2.0/EN
VERSION:2.0
CALSCALE:GREGORIAN
BEGIN:VEVENT
UID:158a77c7de45383e2cdff86dc6b4d50c
DTSTAMP:20260423T124515Z
SUMMARY:Hybrid - Fortbildung Gastroenterologie - Von der Forschung zur Prax
 is - 21. Mai 2026
URL:https://bauchzentrum-bern.ch/fr/evenements/details/detail/hybrid-fortbi
 ldung-gastroenterologie-von-der-forschung-zur-praxis-21-mai-2026
DTSTART;TZID=+02:00:20260521T171500
DTEND;TZID=+02:00:20260521T191500
LOCATION:Inselspital\, Anna Seiler Haus (ASH)\, U1\, Raum 005\, Freiburgstr
 asse 20\, 3010 Bern
END:VEVENT
END:VCALENDAR
