BEGIN:VCALENDAR
PRODID:-//eluceo/ical//2.0/EN
VERSION:2.0
CALSCALE:GREGORIAN
BEGIN:VEVENT
UID:e3744726b50cab4beb9b59ed3fa103fd
DTSTAMP:20260424T143218Z
SUMMARY:Hybrid - Fortbildung Gastroenterologie - Von der Forschung zur Prax
 is - 20. August 2026
URL:https://bauchzentrum-bern.ch/fr/evenements/details/detail/hybrid-fortbi
 ldung-gastroenterologie-von-der-forschung-zur-praxis-20-august-2026-1
DTSTART;TZID=+02:00:20260820T171500
DTEND;TZID=+02:00:20260820T191500
LOCATION:Inselspital\, Anna Seiler Haus (ASH)\, U1\, Raum 005\, Freiburgstr
 asse 20\, 3010 Bern
END:VEVENT
END:VCALENDAR
