BEGIN:VCALENDAR
PRODID:-//eluceo/ical//2.0/EN
VERSION:2.0
CALSCALE:GREGORIAN
BEGIN:VEVENT
UID:1b7397ba2f342b296cc7ecdf6e6004d5
DTSTAMP:20260425T161121Z
SUMMARY:ONLINE Fortbildung - Mangelernährung und Sarkopenie bei Leberzirrh
 ose
URL:https://bauchzentrum-bern.ch/de/veranstaltungen/details/detail/virtuell
 es-hepatologie-symposium-juni-2022
DTSTART;TZID=+02:00:20220915T074500
DTEND;TZID=+02:00:20220915T083000
LOCATION:Viszerale Chirurgie und Medizin - ONLINE Fortbildung - Akkreditier
 ung SGG 1 / SGC-SSC 1
END:VEVENT
END:VCALENDAR
